BEGIN:VCALENDAR
VERSION:2.0
PRODID:-//ChamberMaster//Event Calendar 2.0//EN
METHOD:PUBLISH
X-PUBLISHED-TTL:P3D
REFRESH-INTERVAL:P3D
CALSCALE:GREGORIAN
BEGIN:VEVENT
DTSTART:20251214T200000Z
DTEND:20251214T213000Z
X-MICROSOFT-CDO-ALLDAYEVENT:FALSE
SUMMARY:Community Choir & Orchestra Christmas Cantata
DESCRIPTION:Community Choir & Orchestra Christmas Cantata\n\n"I Love To Tell The Story"
X-ALT-DESC;FMTTYPE=text/html:<h1 class="html-h1 xdj266r x14z9mp xat24cr x1lziwak xexx8yu xyri2b x18d9i69 x1c1uobl x1vvkbs x1heor9g x1qlqyl8 x1pd3egz x1a2a7pz x193iq5w xeuugli" dir="auto"><span class="x193iq5w xeuugli x13faqbe x1vvkbs x1xmvt09 x1lliihq x1s928wv xhkezso x1gmr53x x1cpjm7i x1fgarty x1943h6x x1ill7wo x41vudc x1q74xe4 xyesn5m x1xlr1w8 xzsf02u x1yc453h" dir="auto"><a class="x1i10hfl xjbqb8w x1ejq31n x18oe1m7 x1sy0etr xstzfhl x972fbf x10w94by x1qhh985 x14e42zd x9f619 x1ypdohk xt0psk2 x3ct3a4 xdj266r x14z9mp xat24cr x1lziwak xexx8yu xyri2b x18d9i69 x1c1uobl x16tdsg8 x1hl2dhg xggy1nq x1a2a7pz x1heor9g xkrqix3 x1sur9pj x1pd3egz" href="https://www.facebook.com/groups/christmascantata/" role="link" tabindex="0">Community Choir &amp\; Orchestra Christmas Cantata</a></span></h1>\n\n<div dir="auto">&quot\;I Love To Tell The Story&quot\;</div>\n\n<div dir="auto">&nbsp\;</div>\n
LOCATION:NDSCS Stern Cultural Center\, Wahpeton\, ND
UID:e.417.6391
SEQUENCE:3
DTSTAMP:20260421T143902Z
URL:https://business.wahpetonbreckenridgechamber.com/events/details/community-choir-orchestra-christmas-cantata-6391
END:VEVENT

END:VCALENDAR
