BEGIN:VCALENDAR
VERSION:2.0
PRODID:-//ChamberMaster//Event Calendar 2.0//EN
METHOD:PUBLISH
X-PUBLISHED-TTL:P3D
REFRESH-INTERVAL:P3D
CALSCALE:GREGORIAN
BEGIN:VEVENT
DTSTART:20231005T210000Z
DTEND:20231006T000000Z
X-MICROSOFT-CDO-ALLDAYEVENT:FALSE
SUMMARY:Classy and Classic Car Show
DESCRIPTION:Classy and Classic Car Show\n\nCars\, Trucks\, and Motorcycles
X-ALT-DESC;FMTTYPE=text/html:Classy and Classic Car Show<br />\nCars\, Trucks\, and Motorcycles<br />\n&nbsp\;
LOCATION:Wahpeton\, ND
UID:e.417.4660
SEQUENCE:3
DTSTAMP:20260419T161241Z
URL:https://business.wahpetonbreckenridgechamber.com/events/details/classy-and-classic-car-show-4660
END:VEVENT

END:VCALENDAR
