BEGIN:VCALENDAR
VERSION:2.0
PRODID:-//ChamberMaster//Event Calendar 2.0//EN
METHOD:PUBLISH
X-PUBLISHED-TTL:P3D
REFRESH-INTERVAL:P3D
CALSCALE:GREGORIAN
BEGIN:VEVENT
DTSTART:20251126T010000Z
DTEND:20251126T040000Z
X-MICROSOFT-CDO-ALLDAYEVENT:FALSE
SUMMARY:CHRISTMAS WITH LORIE LINE 2025
DESCRIPTION:CHRISTMAS WITH LORIE LINE 2025\nThe tradition continues! Lorie Line returns to the stage as a solo pianist and celebrates the Christmas season with faith-filled stories and the best-of-the-best holiday music. This year's tour marks her 36th year of touring. As always\, expect beautiful costumes\, elegant piano arrangements\, funny stories\, and personal tender words that reflect the true meaning of Christmas as she brings her concert grand piano to the center stage.
X-ALT-DESC;FMTTYPE=text/html:<h2 class="tourPicker"><a href="https://www.lorieline.com/tour?tourID=59">CHRISTMAS WITH LORIE LINE 2025</a></h2>\nThe tradition continues! Lorie Line returns to the stage as a solo pianist and celebrates the Christmas season with faith-filled stories and the best-of-the-best holiday music. This year&#39\;s tour marks her 36th year of touring. As always\, expect beautiful costumes\, elegant piano arrangements\, funny stories\, and personal tender words that reflect the true meaning of Christmas as she brings her concert grand piano to the center stage.
LOCATION:Stern Cultural Center 811 6th St N Wahpeton\, ND 58075
UID:e.417.6493
SEQUENCE:3
DTSTAMP:20260421T155624Z
URL:https://business.wahpetonbreckenridgechamber.com/events/details/christmas-with-lorie-line-2025-6493
END:VEVENT

END:VCALENDAR
