BEGIN:VCALENDAR
VERSION:2.0
PRODID:-//ChamberMaster//Event Calendar 2.0//EN
METHOD:PUBLISH
X-PUBLISHED-TTL:P3D
REFRESH-INTERVAL:P3D
CALSCALE:GREGORIAN
BEGIN:VEVENT
DTSTART:20251009T170000Z
DTEND:20251009T220000Z
X-MICROSOFT-CDO-ALLDAYEVENT:FALSE
SUMMARY:Chocolate Chocolate Day and Used Book Sale
DESCRIPTION:Chocolate Chocolate Day and Used Book Sale\n\nVisit out annual fundraiser\, sponsored by the Friends of the Leach Public Library. Enjoy a delicious dessert and shop the free-will used book sale.
X-ALT-DESC;FMTTYPE=text/html:Chocolate Chocolate Day and Used Book Sale<br />\n<span style="color: rgb(226\, 229\, 233)\; font-family: &quot\;Segoe UI Historic&quot\;\, &quot\;Segoe UI&quot\;\, Helvetica\, Arial\, sans-serif\; font-size: 15px\; background-color: rgb(37\, 39\, 40)\;">Visit out annual fundraiser\, sponsored by the Friends of the Leach Public Library. Enjoy a delicious dessert and shop the free-will used book sale.</span>
LOCATION:Leach Public Library
UID:e.417.6350
SEQUENCE:3
DTSTAMP:20260421T172149Z
URL:https://business.wahpetonbreckenridgechamber.com/events/details/chocolate-chocolate-day-and-used-book-sale-6350
END:VEVENT

END:VCALENDAR
