BEGIN:VCALENDAR
VERSION:2.0
PRODID:-//ChamberMaster//Event Calendar 2.0//EN
METHOD:PUBLISH
X-PUBLISHED-TTL:P3D
REFRESH-INTERVAL:P3D
CALSCALE:GREGORIAN
BEGIN:VEVENT
DTSTART:20251013T160000Z
DTEND:20251013T180000Z
X-MICROSOFT-CDO-ALLDAYEVENT:FALSE
SUMMARY:Chili & Soup Fundraiser
DESCRIPTION:Someplace Safe 14th Annual Chili & Soup Fundraiser\n\n\n\nMonday October 13th\n\nServing from 11 am - 1 pm\n\nBreckenridge Senior Center\n\n\n\nServing Delicious Chili\, chicken wild rice soup\, desserts & beverages\n\n\n\nFree will donations accepted\, dine in or take out available\n\n\n\nfor more information contact Alisha at 218-643-3109 or alisha.v@someplacesafe.info
X-ALT-DESC;FMTTYPE=text/html:Someplace Safe 14th Annual Chili &amp\; Soup Fundraiser<br />\n<br />\nMonday October 13th<br />\nServing from 11 am - 1 pm<br />\nBreckenridge Senior Center<br />\n<br />\nServing Delicious Chili\, chicken wild rice soup\, desserts &amp\; beverages<br />\n<br />\nFree will donations accepted\, dine in or take out available<br />\n<br />\nfor more information contact Alisha at 218-643-3109 or alisha.v@someplacesafe.info
LOCATION:Breckenridge Senior Center
UID:e.417.6339
SEQUENCE:3
DTSTAMP:20260421T171103Z
URL:https://business.wahpetonbreckenridgechamber.com/events/details/chili-soup-fundraiser-6339
END:VEVENT

END:VCALENDAR
