BEGIN:VCALENDAR
VERSION:2.0
PRODID:-//ChamberMaster//Event Calendar 2.0//EN
METHOD:PUBLISH
X-PUBLISHED-TTL:P3D
REFRESH-INTERVAL:P3D
CALSCALE:GREGORIAN
BEGIN:VEVENT
DTSTART:20231009T160000Z
DTEND:20231009T180000Z
X-MICROSOFT-CDO-ALLDAYEVENT:FALSE
SUMMARY:Chili Feed
DESCRIPTION:12th Annual Someplace Safe Chili Feed
X-ALT-DESC;FMTTYPE=text/html:12th Annual Someplace Safe Chili Feed
LOCATION:Breckenridge Senior Center
UID:e.417.4967
SEQUENCE:3
DTSTAMP:20260419T145022Z
URL:https://business.wahpetonbreckenridgechamber.com/events/details/chili-feed-4967
END:VEVENT

END:VCALENDAR
