BEGIN:VCALENDAR
VERSION:2.0
PRODID:-//ChamberMaster//Event Calendar 2.0//EN
METHOD:PUBLISH
X-PUBLISHED-TTL:P3D
REFRESH-INTERVAL:P3D
CALSCALE:GREGORIAN
BEGIN:VEVENT
DTSTART:20251124T210000Z
DTEND:20251124T233000Z
X-MICROSOFT-CDO-ALLDAYEVENT:FALSE
SUMMARY:Charlie Brown Thanksgiving FREE event @Breck FCC/Teen Center
DESCRIPTION:Join us for a Charlie Brown Thanksgiving movie that begins at 4:00. *Admission\, treats\, and popcorn are all FREE. *Sign up to win 1 of 3 deliciously decorated large cookie sandwiches from Econo Bakery! (You do not need to be present to win) *Pizza by the slice is just $2. *Concessions will also be available for purchase. *Enjoy our coloring contest for ages 1-15. **Youth under 10 are welcome\, but must be accompanied by an adult. Let's ALL be THANKFUL for this community event and each other!
X-ALT-DESC;FMTTYPE=text/html:Join us for a Charlie Brown Thanksgiving movie that begins at 4:00. *Admission\, treats\, and popcorn are all FREE. *Sign up to win 1 of 3 deliciously decorated large cookie sandwiches from Econo Bakery! (You do not need to be present to win) *Pizza by the slice is just $2. *Concessions will also be available for purchase. *Enjoy our coloring contest for ages 1-15. **Youth under 10 are welcome\, but must be accompanied by an adult. Let&#39\;s ALL be THANKFUL for this community event and each other!
LOCATION:Family Community Center 521 6th Street North\, Breckenridge
UID:e.417.6460
SEQUENCE:3
DTSTAMP:20260421T160712Z
URL:https://business.wahpetonbreckenridgechamber.com/events/details/charlie-brown-thanksgiving-free-event-breck-fcc-teen-center-6460
END:VEVENT

END:VCALENDAR
