BEGIN:VCALENDAR
VERSION:2.0
PRODID:-//ChamberMaster//Event Calendar 2.0//EN
METHOD:PUBLISH
X-PUBLISHED-TTL:P3D
REFRESH-INTERVAL:P3D
CALSCALE:GREGORIAN
BEGIN:VEVENT
DTSTART:20251009T233000Z
DTEND:20251010T023000Z
X-MICROSOFT-CDO-ALLDAYEVENT:FALSE
SUMMARY:Celebrating America's Patriotism in Concert
DESCRIPTION:The Red River Valley Veteran's Concert Band is Celebrating America's Patriotism in Concert\n\n\n\nThe Red River Valley Veterans Concert Band invites you and your members....everyone...to join us Thursday night\, October 9th\, in Wahpeton at the Wahpeton High School auditorium for an evening of memorable music as we celebrate America's patriotism! The free concert starts at 8:10 PM. \n\n \n\nThe Fargo-based RRVVCB is an all-volunteer concert band of 45+ musicians of all ages and walks of life who've come together for over 50 years to Promote Patriotism through Music. Our concerts are free and open to everyone\, and they're sure to bring smiles to your face and good feelings to your heart. \n\n \n\nThe band will be playing two free concerts that evening. The first will be for residents of St. Catherines\, their families and staff\; the band takes great pride in providing concerts to those who can no longer get out to see a big-band concert. The second concert at the Wahpeton High School is for everyone\, and we hope to see everyone there!\n\n \n\nOur playlist has a wide variety of music that's sure to appeal to all ages. You'll hear fun oldies\, foot-tapping marches\, enjoyable show tunes/theme songs\, faith-based music\, a little jazz and light rock\, and the ever-loving patriotic songs. A special tribute feature will be performed for all our military service men & women\, active-duty and veterans\, and their families. When we close our programs\, we hope you'll agree it's been a heart-warming night of musical entertainment!
X-ALT-DESC;FMTTYPE=text/html:<strong>The Red River Valley Veteran&#39\;s Concert Band is Celebrating America&#39\;s Patriotism in Concert</strong><br />\n<br />\n<span style="color:black\;"><span style="font-family:arial\,sans-serif\;"><span style="font-size:12px\;">The Red River Valley Veterans Concert Band invites you and your members....ev</span>eryone...</span>to join us Thursday night\,&nbsp\;October 9</span>th\, in&nbsp\;Wahpeton&nbsp\;at the Wahpeton High School auditorium&nbsp\;for an evening of memorable music as we celebrate America&#39\;s patriotism! The free concert starts at 8:10 PM.&nbsp\;<br />\n&nbsp\;<br />\n<span style="color:black\;"><span style="font-family:arial\,sans-serif\;"><span style="font-size:18.0pt\;"><span style="font-size:12px\;">The Fargo-based RRVVCB is an all-volunteer concert band of 45+</span></span><span style="font-size:12px\;"> musicians of all ages and walks of life who&#39\;ve come together for over 50 years to&nbsp\;<strong><em>Promote Patriotism through Music</em></strong>. Our concerts are free and open to everyone\, and they&#39\;re sure to bring smiles to your face and good feelings to your heart.&nbsp\;</span></span></span><br />\n<span style="font-size:12px\;">&nbsp\;<br />\n<span style="color:black\;"><span style="font-family:arial\,sans-serif\;">The band will be playing two free&nbsp\;concerts that evening. The first will be for residents of St. Catherines\, their families and staff\; the band takes great pride in providing concerts to those who can no longer get out to see a big-band concert. The second concert at the Wahpeton&nbsp\;High School</span> is for everyone\, and we hope to see everyone there!</span><br />\n&nbsp\;<br />\n<span style="color:black\;"><span style="font-family:arial\,sans-serif\;">Our playlist has a wide variety of music that&#39\;s sure to appeal to all ages. You&#39\;ll hear fun oldies\, foot-tapping marches\, enjoyable show&nbsp\;tunes/theme songs\, faith-based music</span>\, a little jazz and light rock\, and the ever-loving patriotic songs. A special tribute feature will be performed for all our military service men &amp\; women\, active-duty and veterans\, and their families. When we close our programs\, we hope you&#39\;ll agree it&#39\;s been a heart-warming night of musical entertainment!</span></span><br />\n&nbsp\;
LOCATION:St Catherine's - 1307 N 7th St\, Wahpeton Wahpeton High School - 1021 11th St N\, Wahpeton
UID:e.417.6381
SEQUENCE:3
DTSTAMP:20260421T171612Z
URL:https://business.wahpetonbreckenridgechamber.com/events/details/celebrating-america-s-patriotism-in-concert-6381
END:VEVENT

END:VCALENDAR
