BEGIN:VCALENDAR
VERSION:2.0
PRODID:-//ChamberMaster//Event Calendar 2.0//EN
METHOD:PUBLISH
X-PUBLISHED-TTL:P3D
REFRESH-INTERVAL:P3D
CALSCALE:GREGORIAN
BEGIN:VEVENT
DTSTART:20251001T140000Z
DTEND:20251001T190000Z
X-MICROSOFT-CDO-ALLDAYEVENT:FALSE
SUMMARY:Career Expo
DESCRIPTION:Annual Career Expo\n\nPromote local careers to students!\n\nPromote your careers opportunities\, job openings\, or demonstrate what you and your company do for our local community. Businesses are encouraged to bring handouts and provide activities that would engage students.
X-ALT-DESC;FMTTYPE=text/html:Annual Career Expo<br />\nPromote local careers to students!<br />\nPromote your careers opportunities\, job openings\, or demonstrate what you and your company do for our local community. Businesses are encouraged to bring handouts and provide activities that would engage students.&nbsp\;
LOCATION:Wahpeton Community Center 304 5th St S Wahpeton\, ND
UID:e.417.6286
SEQUENCE:3
DTSTAMP:20260421T171047Z
URL:https://business.wahpetonbreckenridgechamber.com/events/details/career-expo-6286
END:VEVENT

END:VCALENDAR
