BEGIN:VCALENDAR
VERSION:2.0
PRODID:-//ChamberMaster//Event Calendar 2.0//EN
METHOD:PUBLISH
X-PUBLISHED-TTL:P3D
REFRESH-INTERVAL:P3D
CALSCALE:GREGORIAN
BEGIN:VEVENT
DTSTART;VALUE=DATE:20230726
DTEND;VALUE=DATE:20230731
TRANSP:TRANSPARENT
X-MICROSOFT-CDO-ALLDAYEVENT:TRUE
SUMMARY:Cal Ripken Baseball Tournament
DESCRIPTION:Cal Ripken Baseball Tournament
X-ALT-DESC;FMTTYPE=text/html:Cal Ripken Baseball Tournament
LOCATION:
UID:e.417.4690
SEQUENCE:3
DTSTAMP:20260421T102944Z
URL:https://business.wahpetonbreckenridgechamber.com/events/details/cal-ripken-baseball-tournament-4690
END:VEVENT

END:VCALENDAR
