BEGIN:VCALENDAR
VERSION:2.0
PRODID:-//ChamberMaster//Event Calendar 2.0//EN
METHOD:PUBLISH
X-PUBLISHED-TTL:P3D
REFRESH-INTERVAL:P3D
CALSCALE:GREGORIAN
BEGIN:VEVENT
DTSTART:20250416T160000Z
DTEND:20250416T180000Z
X-MICROSOFT-CDO-ALLDAYEVENT:FALSE
SUMMARY:Burger in a Bag Fundraiser
DESCRIPTION:Burger in a Bag Fundraiser\n\nIn honor of Silvia Barrera\n\nTaking Pre-Orders\n\nAll Proceeds go to the Espinoza Family
X-ALT-DESC;FMTTYPE=text/html:Burger in a Bag Fundraiser<br />\nIn honor of Silvia Barrera<br />\nTaking Pre-Orders<br />\nAll Proceeds go to the Espinoza Family
LOCATION:Wahpeton Dollar Tree
UID:e.417.6147
SEQUENCE:3
DTSTAMP:20260422T082814Z
URL:https://business.wahpetonbreckenridgechamber.com/events/details/burger-in-a-bag-fundraiser-6147
END:VEVENT

END:VCALENDAR
