BEGIN:VCALENDAR
VERSION:2.0
PRODID:-//ChamberMaster//Event Calendar 2.0//EN
METHOD:PUBLISH
X-PUBLISHED-TTL:P3D
REFRESH-INTERVAL:P3D
CALSCALE:GREGORIAN
BEGIN:VEVENT
DTSTART:20240517T130000Z
DTEND:20240518T200000Z
X-MICROSOFT-CDO-ALLDAYEVENT:FALSE
SUMMARY:Breckenridge SPRING City Wide RUMMAGE SALE
DESCRIPTION:Spring is the perfect time to take a look around your property & clean it up. Do you have too much "stuff" or have items you no longer need? Get started on cleaning out your closets\, drawers\, garage\, sheds\, and basement. JOIN IN our 2024 Breckenridge SPRING City Wide RUMMAGE SALE! For more information and FREE registration visit www.breckenridgemn.net/spring-rummage-sale
X-ALT-DESC;FMTTYPE=text/html:Spring is the perfect time to take a look around your property &amp\; clean it up. Do you have too much &quot\;stuff&quot\; or have items you no longer need? Get started on cleaning out your closets\, drawers\, garage\, sheds\, and basement. JOIN IN our 2024 Breckenridge SPRING City Wide RUMMAGE SALE! For more information and FREE registration visit www.breckenridgemn.net/spring-rummage-sale
LOCATION:Breckenridge\, MN
UID:e.417.5463
SEQUENCE:3
DTSTAMP:20260425T164037Z
URL:https://business.wahpetonbreckenridgechamber.com/events/details/breckenridge-spring-city-wide-rummage-sale-05-17-2024-5463
END:VEVENT

END:VCALENDAR
