BEGIN:VCALENDAR
VERSION:2.0
PRODID:-//ChamberMaster//Event Calendar 2.0//EN
METHOD:PUBLISH
X-PUBLISHED-TTL:P3D
REFRESH-INTERVAL:P3D
CALSCALE:GREGORIAN
BEGIN:VEVENT
DTSTART:20260515T130000Z
DTEND:20260516T200000Z
X-MICROSOFT-CDO-ALLDAYEVENT:FALSE
SUMMARY:Breckenridge SPRING City Wide Rummage Sale
DESCRIPTION:Annual SPRING City Wide RUMMAGE SALE in Breckenridge. Rain or Shine! A listing of addresses & map of the location and dates of each sale will be available on the city website and Facebook Event. Hard copies will be also available at City Hall beginning Monday\, May 11th.
X-ALT-DESC;FMTTYPE=text/html:Annual SPRING City Wide RUMMAGE SALE in Breckenridge. Rain or Shine! A listing of addresses &amp\; map of the location and dates of each sale will be available on the city website and Facebook Event. Hard copies will be also available at City Hall beginning Monday\, May 11th.
LOCATION:City of Breckenridge
UID:e.417.7028
SEQUENCE:3
DTSTAMP:20260421T132127Z
URL:https://business.wahpetonbreckenridgechamber.com/events/details/breckenridge-spring-city-wide-rummage-sale-05-15-2026-7028
END:VEVENT

END:VCALENDAR
