BEGIN:VCALENDAR
VERSION:2.0
PRODID:-//ChamberMaster//Event Calendar 2.0//EN
METHOD:PUBLISH
X-PUBLISHED-TTL:P3D
REFRESH-INTERVAL:P3D
CALSCALE:GREGORIAN
BEGIN:VEVENT
DTSTART:20251202T010000Z
DTEND:20251202T020000Z
X-MICROSOFT-CDO-ALLDAYEVENT:FALSE
SUMMARY:Breckenridge Lions Club organizational meetings.
DESCRIPTION:LIONS CLUB INTERNATIONAL is starting a new chapter in Breckenridge MN. Anyone 18 and over is eligible to join. Organizational meetings are Monday November 24 and Monday December 1\, 7:00pm at Breckenridge Public Library. Join now and be a charter member. No dues until July of 2026. Call 651-295-5115 for more information
X-ALT-DESC;FMTTYPE=text/html:LIONS CLUB INTERNATIONAL is starting a new chapter in Breckenridge MN. Anyone 18 and over is eligible to join. Organizational meetings are Monday November 24 and Monday December 1\, 7:00pm at Breckenridge Public Library. Join now and be a charter member. No dues until July of 2026. Call 651-295-5115 for more information
LOCATION:Breckenridge Public Library
UID:e.417.6497
SEQUENCE:3
DTSTAMP:20260421T144307Z
URL:https://business.wahpetonbreckenridgechamber.com/events/details/breckenridge-lions-club-organizational-meetings-6497
END:VEVENT

END:VCALENDAR
