BEGIN:VCALENDAR
VERSION:2.0
PRODID:-//ChamberMaster//Event Calendar 2.0//EN
METHOD:PUBLISH
X-PUBLISHED-TTL:P3D
REFRESH-INTERVAL:P3D
CALSCALE:GREGORIAN
BEGIN:VEVENT
DTSTART:20230709T140000Z
DTEND:20230709T210000Z
X-MICROSOFT-CDO-ALLDAYEVENT:FALSE
SUMMARY:Breckenridge Flea Market
DESCRIPTION:Breckenridge Flea Market
X-ALT-DESC;FMTTYPE=text/html:Breckenridge Flea Market&nbsp\;&nbsp\;&nbsp\;&nbsp\;
LOCATION:Welles Memorial Park 101 Nebraska Ave Breckenridge\, MN 56520
UID:e.417.4477
SEQUENCE:3
DTSTAMP:20260421T103147Z
URL:https://business.wahpetonbreckenridgechamber.com/events/details/breckenridge-flea-market-07-09-2023-4477
END:VEVENT

END:VCALENDAR
