BEGIN:VCALENDAR
VERSION:2.0
PRODID:-//ChamberMaster//Event Calendar 2.0//EN
METHOD:PUBLISH
X-PUBLISHED-TTL:P3D
REFRESH-INTERVAL:P3D
CALSCALE:GREGORIAN
BEGIN:VEVENT
DTSTART:20251003T130000Z
DTEND:20251004T200000Z
X-MICROSOFT-CDO-ALLDAYEVENT:FALSE
SUMMARY:Breckenridge FALL City Wide Rummage Sale
DESCRIPTION:2025 Breckenridge FALL City Wide Rummage Sale Friday\, October 3rd from 8am-6pm Saturday\, October 4th from 8am-3pm Sign up for FREE at www.breckenridgemn.net/fall-rummage-sale-1 or stop by Breckenridge City Hall at 420 Nebraska Ave before Thursday\, September 25\, 2025. Facebook event: www.facebook.com/events/1143896431020552
X-ALT-DESC;FMTTYPE=text/html:2025 Breckenridge FALL City Wide Rummage Sale Friday\, October 3rd from 8am-6pm Saturday\, October 4th from 8am-3pm Sign up for FREE at www.breckenridgemn.net/fall-rummage-sale-1 or stop by Breckenridge City Hall at 420 Nebraska Ave before Thursday\, September 25\, 2025. Facebook event: www.facebook.com/events/1143896431020552
LOCATION:Breckenridge
UID:e.417.6342
SEQUENCE:3
DTSTAMP:20260421T172820Z
URL:https://business.wahpetonbreckenridgechamber.com/events/details/breckenridge-fall-city-wide-rummage-sale-6342
END:VEVENT

END:VCALENDAR
