BEGIN:VCALENDAR
VERSION:2.0
PRODID:-//ChamberMaster//Event Calendar 2.0//EN
METHOD:PUBLISH
X-PUBLISHED-TTL:P3D
REFRESH-INTERVAL:P3D
CALSCALE:GREGORIAN
BEGIN:VEVENT
DTSTART:20260504T130000Z
DTEND:20260507T210000Z
X-MICROSOFT-CDO-ALLDAYEVENT:FALSE
SUMMARY:Breckenridge Clean Up Week
DESCRIPTION:Dumpsters will be placed at 8am & picked up at 4pm. (NO OVERNIGHT DUMPING) Bring your items to Pope Street- turn south at Favorites Deli off Minnesota Ave (Bois de Sioux Adventure Area & Grass/Leaf Clipping location). *Items will NOT be picked up curbside! Breckenridge residents only! City staff will monitor the dumping during operating hours. Identification & a valid Breckenridge address will be required for anyone dropping off items. For a list of items not excepted visit www.breckenridge.com or stop by Breckenridge City Hall.
X-ALT-DESC;FMTTYPE=text/html:Dumpsters will be placed at 8am &amp\; picked up at 4pm. (NO OVERNIGHT DUMPING) Bring your items to Pope Street- turn south at Favorites Deli off Minnesota Ave (Bois de Sioux Adventure Area &amp\; Grass/Leaf Clipping location). *Items will NOT be picked up curbside! Breckenridge residents only! City staff will monitor the dumping during operating hours. Identification &amp\; a valid Breckenridge address will be required for anyone dropping off items. For a list of items not excepted visit www.breckenridge.com or stop by Breckenridge City Hall.
LOCATION:Pope Street\, Breckenridge
UID:e.417.7100
SEQUENCE:3
DTSTAMP:20260421T131130Z
URL:https://business.wahpetonbreckenridgechamber.com/events/details/breckenridge-clean-up-week-05-04-2026-7100
END:VEVENT

END:VCALENDAR
