BEGIN:VCALENDAR
VERSION:2.0
PRODID:-//ChamberMaster//Event Calendar 2.0//EN
METHOD:PUBLISH
X-PUBLISHED-TTL:P3D
REFRESH-INTERVAL:P3D
CALSCALE:GREGORIAN
BEGIN:VEVENT
DTSTART:20240312T230000Z
DTEND:20240313T000000Z
X-MICROSOFT-CDO-ALLDAYEVENT:FALSE
SUMMARY:Breck Book Club
DESCRIPTION:Join us for an evening of book discussion!\n\nJoin us for a meeting of the Breck Book Club in the Breckenridge Public Library Community Room. The Breck Book Club is going to be a place to come and discuss books you've currently read and share what you liked\, or didn't like about it. Shhhhh....no spoilers! Give and get recommendations from others in the community! All are welcome to attend.
X-ALT-DESC;FMTTYPE=text/html:<div class="xdj266r x11i5rnm xat24cr x1mh8g0r x1vvkbs" style="margin: 0px\; overflow-wrap: break-word\; font-family: &quot\;Segoe UI Historic&quot\;\, &quot\;Segoe UI&quot\;\, Helvetica\, Arial\, sans-serif\; color: rgb(228\, 230\, 235)\; font-size: 15px\; background-color: rgb(36\, 37\, 38)\;">Join us for an evening of book discussion!</div>\n\n<div class="x11i5rnm xat24cr x1mh8g0r x1vvkbs xtlvy1s" style="margin: 0.5em 0px 0px\; overflow-wrap: break-word\; font-family: &quot\;Segoe UI Historic&quot\;\, &quot\;Segoe UI&quot\;\, Helvetica\, Arial\, sans-serif\; color: rgb(228\, 230\, 235)\; font-size: 15px\; background-color: rgb(36\, 37\, 38)\;">Join us for a meeting of the Breck Book Club in the Breckenridge Public Library Community Room. The Breck Book Club is going to be a place to come and discuss books you&#39\;ve currently read and share what you liked\, or didn&#39\;t like about it. Shhhhh....no spoilers! Give and get recommendations from others in the community! All are welcome to attend.&nbsp\;</div>\n
LOCATION:Breckenridge Public Library
UID:e.417.5163
SEQUENCE:3
DTSTAMP:20260421T150333Z
URL:https://business.wahpetonbreckenridgechamber.com/events/details/breck-book-club-03-12-2024-5163
END:VEVENT

END:VCALENDAR
