BEGIN:VCALENDAR
VERSION:2.0
PRODID:-//ChamberMaster//Event Calendar 2.0//EN
METHOD:PUBLISH
X-PUBLISHED-TTL:P3D
REFRESH-INTERVAL:P3D
CALSCALE:GREGORIAN
BEGIN:VEVENT
DTSTART:20260405T133000Z
DTEND:20260405T173000Z
X-MICROSOFT-CDO-ALLDAYEVENT:FALSE
SUMMARY:Breakfast - Fairmount
DESCRIPTION:Fairmount Legion Post 106 & Explore America \n\nBREAKFAST\n\nServing French Toast\, Pancakes\, Eggs\, Biscuits\, Ham\, Sausage\, Coffee & Juice
X-ALT-DESC;FMTTYPE=text/html:<p>Fairmount Legion Post 106 &amp\; Explore America&nbsp\;</p>\n\n<p>BREAKFAST</p>\n\n<p>Serving French Toast\, Pancakes\, Eggs\, Biscuits\, Ham\, Sausage\, Coffee &amp\; Juice</p>\n
LOCATION:Fairmount Community Center
UID:e.417.6551
SEQUENCE:3
DTSTAMP:20260421T115206Z
URL:https://business.wahpetonbreckenridgechamber.com/events/details/breakfast-fairmount-04-05-2026-6551
END:VEVENT

END:VCALENDAR
