BEGIN:VCALENDAR
VERSION:2.0
PRODID:-//ChamberMaster//Event Calendar 2.0//EN
METHOD:PUBLISH
X-PUBLISHED-TTL:P3D
REFRESH-INTERVAL:P3D
CALSCALE:GREGORIAN
BEGIN:VEVENT
DTSTART:20251015T213000Z
DTEND:20251016T003000Z
X-MICROSOFT-CDO-ALLDAYEVENT:FALSE
SUMMARY:Bread & Light Community Meal
DESCRIPTION:Bread & Light Community Meal\nFamily Friendly Meal fro the Wahpeton & Breckenridge Communities\n\n\n\nFamilies can also pick up free boxed cold lunches to enjoy at home\, since most kids will have the days off from school on October 16th & 17th.
X-ALT-DESC;FMTTYPE=text/html:<h1 class="headline" itemprop="headline"><span>Bread &amp\; Light Community Meal</span></h1>\nFamily Friendly Meal fro the Wahpeton &amp\; Breckenridge Communities<br />\n<br />\nFamilies can also pick up free boxed cold lunches to enjoy at home\, since most kids will have the days off from school on October 16th &amp\; 17th.&nbsp\;
LOCATION:Bethel Lutheran Church 607 6th Street Wahpeton
UID:e.417.6400
SEQUENCE:3
DTSTAMP:20260421T170808Z
URL:https://business.wahpetonbreckenridgechamber.com/events/details/bread-light-community-meal-6400
END:VEVENT

END:VCALENDAR
