BEGIN:VCALENDAR
VERSION:2.0
PRODID:-//ChamberMaster//Event Calendar 2.0//EN
METHOD:PUBLISH
X-PUBLISHED-TTL:P3D
REFRESH-INTERVAL:P3D
CALSCALE:GREGORIAN
BEGIN:VEVENT
DTSTART;VALUE=DATE:20230708
DTEND;VALUE=DATE:20230709
TRANSP:TRANSPARENT
X-MICROSOFT-CDO-ALLDAYEVENT:TRUE
SUMMARY:Borderline Chalkfest
DESCRIPTION:5th Annual Borderline Chalkfest
X-ALT-DESC;FMTTYPE=text/html:5th Annual Borderline Chalkfest
LOCATION:Wahpeton 4th and 2nd Street
UID:e.417.4433
SEQUENCE:3
DTSTAMP:20260421T102738Z
URL:https://business.wahpetonbreckenridgechamber.com/events/details/borderline-chalkfest-4433
END:VEVENT

END:VCALENDAR
