BEGIN:VCALENDAR
VERSION:2.0
PRODID:-//ChamberMaster//Event Calendar 2.0//EN
METHOD:PUBLISH
X-PUBLISHED-TTL:P3D
REFRESH-INTERVAL:P3D
CALSCALE:GREGORIAN
BEGIN:VEVENT
DTSTART:20240724T170000Z
DTEND:20240724T230000Z
X-MICROSOFT-CDO-ALLDAYEVENT:FALSE
SUMMARY:Bois De Sioux Ladies Invite
DESCRIPTION:Bois De Sioux Ladies Invite\n\nGolf Tournament\n\n\n\nEnjoy a day of golf followed by a meal and prizes!\n\n\n\nFormat: 4 Lady Scramble\n\nRegistration: 12 pm\n\nShotgun Start: 1 pm\n\nEntry Fee: $200 per team\n\nRegister today: Call the Pro Shop: 701-642-3673
X-ALT-DESC;FMTTYPE=text/html:Bois De Sioux Ladies Invite<br />\nGolf Tournament<br />\n<br />\nEnjoy a day of golf followed by a meal and prizes!<br />\n<br />\nFormat: 4 Lady Scramble<br />\nRegistration: 12 pm<br />\nShotgun Start: 1 pm<br />\nEntry Fee: $200 per team<br />\nRegister today: Call the Pro Shop: 701-642-3673<br />\n&nbsp\;
LOCATION:Bois De Sioux Golf Course Wahpeton
UID:e.417.5576
SEQUENCE:3
DTSTAMP:20260424T225414Z
URL:https://business.wahpetonbreckenridgechamber.com/events/details/bois-de-sioux-ladies-invite-5576
END:VEVENT

END:VCALENDAR
