BEGIN:VCALENDAR
VERSION:2.0
PRODID:-//ChamberMaster//Event Calendar 2.0//EN
METHOD:PUBLISH
X-PUBLISHED-TTL:P3D
REFRESH-INTERVAL:P3D
CALSCALE:GREGORIAN
BEGIN:VEVENT
DTSTART;VALUE=DATE:20251025
DTEND;VALUE=DATE:20251026
TRANSP:TRANSPARENT
X-MICROSOFT-CDO-ALLDAYEVENT:TRUE
SUMMARY:Bloody Bar Golf
DESCRIPTION:1st Annual Bloody Bar Golf\n\nKBMW - Operation Zero - B92.7\n\nBloody Bar Golf\n\nSaturday October 25th 2025\n\nCity Brew Hall - Caseys - Grumpys - The WIlkin - Antelope Creek Bar & Grill
X-ALT-DESC;FMTTYPE=text/html:1st Annual Bloody Bar Golf<br />\nKBMW - Operation Zero - B92.7<br />\nBloody Bar Golf<br />\nSaturday October 25th 2025<br />\nCity Brew Hall - Caseys - Grumpys - The WIlkin - Antelope Creek Bar &amp\; Grill
LOCATION:
UID:e.417.6365
SEQUENCE:3
DTSTAMP:20260421T171047Z
URL:https://business.wahpetonbreckenridgechamber.com/events/details/bloody-bar-golf-6365
END:VEVENT

END:VCALENDAR
