BEGIN:VCALENDAR
VERSION:2.0
PRODID:-//ChamberMaster//Event Calendar 2.0//EN
METHOD:PUBLISH
X-PUBLISHED-TTL:P3D
REFRESH-INTERVAL:P3D
CALSCALE:GREGORIAN
BEGIN:VEVENT
DTSTART:20251004T000000Z
DTEND:20251004T020000Z
X-MICROSOFT-CDO-ALLDAYEVENT:FALSE
SUMMARY:Bingo @ Terrace Lanes
DESCRIPTION:Bingo @ Terrace Lanes By Head of The Red Youth Activities\n\n11 Games of Bingo fun\n\nmust be 21+ to play\n\nPacket Price $30.00r
X-ALT-DESC;FMTTYPE=text/html:Bingo @ Terrace Lanes By Head of The Red Youth Activities<br />\n11 Games of Bingo fun<br />\nmust be 21+ to play<br />\nPacket Price $30.00r
LOCATION:Terrace Lanes BOwling
UID:e.417.6349
SEQUENCE:3
DTSTAMP:20260421T171157Z
URL:https://business.wahpetonbreckenridgechamber.com/events/details/bingo-terrace-lanes-6349
END:VEVENT

END:VCALENDAR
