BEGIN:VCALENDAR
VERSION:2.0
PRODID:-//ChamberMaster//Event Calendar 2.0//EN
METHOD:PUBLISH
X-PUBLISHED-TTL:P3D
REFRESH-INTERVAL:P3D
CALSCALE:GREGORIAN
BEGIN:VEVENT
DTSTART;VALUE=DATE:20220801
DTEND;VALUE=DATE:20220805
TRANSP:TRANSPARENT
X-MICROSOFT-CDO-ALLDAYEVENT:TRUE
SUMMARY:BeMobile Backpack Giveaway
DESCRIPTION:We are proud to support our local communities and provide $125\,000 in school supplies for kids in need. Visit any BeMobile Verizon during our event to get your backpack.
X-ALT-DESC;FMTTYPE=text/html:<span style="color: rgb(5\, 5\, 5)\; font-family: &quot\;Segoe UI Historic&quot\;\, &quot\;Segoe UI&quot\;\, Helvetica\, Arial\, sans-serif\; font-size: 15px\;">We are proud to support our local communities and provide $125\,000 in school supplies for kids in need. Visit any BeMobile Verizon during our event to get your backpack.</span>
LOCATION:
UID:e.417.4114
SEQUENCE:3
DTSTAMP:20260421T152828Z
URL:https://business.wahpetonbreckenridgechamber.com/events/details/bemobile-backpack-giveaway-4114
END:VEVENT

END:VCALENDAR
