BEGIN:VCALENDAR
VERSION:2.0
PRODID:-//ChamberMaster//Event Calendar 2.0//EN
METHOD:PUBLISH
X-PUBLISHED-TTL:P3D
REFRESH-INTERVAL:P3D
CALSCALE:GREGORIAN
BEGIN:VEVENT
DTSTART:20230714T000000Z
DTEND:20230715T030000Z
X-MICROSOFT-CDO-ALLDAYEVENT:FALSE
SUMMARY:Annie Jr Musical\, Wahpeton High School
DESCRIPTION:Annie Jr. Musical
X-ALT-DESC;FMTTYPE=text/html:Annie Jr. Musical
LOCATION:Wahpeton High School Auditorium
UID:e.417.4625
SEQUENCE:3
DTSTAMP:20260421T103111Z
URL:https://business.wahpetonbreckenridgechamber.com/events/details/annie-jr-musical-wahpeton-high-school-4625
END:VEVENT

END:VCALENDAR
