BEGIN:VCALENDAR
VERSION:2.0
PRODID:-//ChamberMaster//Event Calendar 2.0//EN
METHOD:PUBLISH
X-PUBLISHED-TTL:P3D
REFRESH-INTERVAL:P3D
CALSCALE:GREGORIAN
BEGIN:VEVENT
DTSTART:20230913T220000Z
DTEND:20230914T000000Z
X-MICROSOFT-CDO-ALLDAYEVENT:FALSE
SUMMARY:Adventure Night Scavenger Hunt & Fundraiser
DESCRIPTION:Adventure Night Scavenger Hunt & Fundraiser
X-ALT-DESC;FMTTYPE=text/html:Adventure Night Scavenger Hunt &amp\; Fundraiser
LOCATION:Bois De Sioux Adventure Area
UID:e.417.4750
SEQUENCE:3
DTSTAMP:20260424T015640Z
URL:https://business.wahpetonbreckenridgechamber.com/events/details/adventure-night-scavenger-hunt-fundraiser-4750
END:VEVENT

END:VCALENDAR
