BEGIN:VCALENDAR
VERSION:2.0
PRODID:-//ChamberMaster//Event Calendar 2.0//EN
METHOD:PUBLISH
X-PUBLISHED-TTL:P3D
REFRESH-INTERVAL:P3D
CALSCALE:GREGORIAN
BEGIN:VEVENT
DTSTART:20251129T170000Z
DTEND:20251130T010000Z
X-MICROSOFT-CDO-ALLDAYEVENT:FALSE
SUMMARY:A Very Merry Market at The 44 Venue
DESCRIPTION:A Very Merry Market returns as a curated makers' market held on Small Business Saturday\, featuring local artisans\, handmade goods\, holiday d cor\, apparel\, home items\, baked goods\, candles\, gifts\, children's books\, and more. Families can enjoy a full lineup of festive activities\, including: Gallery on the Go crafts "Presents for Parents" gift-making for kids Horse-drawn carriage rides S'mores & fire pits Hot cocoa\, cider\, and specialty cocktails Professional holiday photos Sit with Santa & live holiday piano music Sips & Swags
X-ALT-DESC;FMTTYPE=text/html:A Very Merry Market returns as a curated makers&rsquo\; market held on Small Business Saturday\, featuring local artisans\, handmade goods\, holiday d&eacute\;cor\, apparel\, home items\, baked goods\, candles\, gifts\, children&rsquo\;s books\, and more. Families can enjoy a full lineup of festive activities\, including: Gallery on the Go crafts &ldquo\;Presents for Parents&rdquo\; gift-making for kids Horse-drawn carriage rides S&rsquo\;mores &amp\; fire pits Hot cocoa\, cider\, and specialty cocktails Professional holiday photos Sit with Santa &amp\; live holiday piano music Sips &amp\; Swags
LOCATION:The 44 Venue 15 Main Ave. Colfax\, ND 58018
UID:e.417.6479
SEQUENCE:3
DTSTAMP:20260421T161728Z
URL:https://business.wahpetonbreckenridgechamber.com/events/details/a-very-merry-market-at-the-44-venue-6479
END:VEVENT

END:VCALENDAR
