BEGIN:VCALENDAR
VERSION:2.0
PRODID:-//ChamberMaster//Event Calendar 2.0//EN
METHOD:PUBLISH
X-PUBLISHED-TTL:P3D
REFRESH-INTERVAL:P3D
CALSCALE:GREGORIAN
BEGIN:VEVENT
DTSTART:20250922T220000Z
DTEND:20250923T003000Z
X-MICROSOFT-CDO-ALLDAYEVENT:FALSE
SUMMARY:5K On Wheels!
DESCRIPTION:Twin Town Skateparks 1st Annual 5K on Wheels!\n\nRun walk or roll.\n\nA fun one of a kind family friendly 5k to support phase 2 for our twin town skatepark.\n\n\n\nEarly Registration by Sept 5th\, $35 per person with t-shirt\, $25 per person after september 5.
X-ALT-DESC;FMTTYPE=text/html:Twin Town Skateparks 1st Annual 5K on Wheels!<br />\nRun walk or roll.<br />\nA fun one of a kind family friendly 5k to support phase 2 for our twin town skatepark.<br />\n<br />\nEarly Registration by Sept 5th\, $35 per person with t-shirt\, $25 per person after september 5.
LOCATION:Twin Town Skatepark
UID:e.417.6285
SEQUENCE:3
DTSTAMP:20260421T183625Z
URL:https://business.wahpetonbreckenridgechamber.com/events/details/5k-on-wheels-6285
END:VEVENT

END:VCALENDAR
