BEGIN:VCALENDAR
VERSION:2.0
PRODID:-//ChamberMaster//Event Calendar 2.0//EN
METHOD:PUBLISH
X-PUBLISHED-TTL:P3D
REFRESH-INTERVAL:P3D
CALSCALE:GREGORIAN
BEGIN:VEVENT
DTSTART:20260307T133000Z
DTEND:20260307T183000Z
X-MICROSOFT-CDO-ALLDAYEVENT:FALSE
SUMMARY:59th Annual Wahpeton-Breckenridge Kiwanis Pancake Feed
DESCRIPTION:59th Annual Wahpeton-Breckenridge Kiwanis Pancake Feed
X-ALT-DESC;FMTTYPE=text/html:<span class="x193iq5w xeuugli x13faqbe x1vvkbs x1xmvt09 x1lliihq x1s928wv xhkezso x1gmr53x x1cpjm7i x1fgarty x1943h6x xudqn12 x3x7a5m x6prxxf xvq8zen xo1l8bm xzsf02u" dir="auto">59th Annual Wahpeton-Breckenridge Kiwanis Pancake Feed</span>
LOCATION:Wahpeton Community Center 304 5th St. S\, Wahpeton\, ND 58075.
UID:e.417.6576
SEQUENCE:3
DTSTAMP:20260421T103149Z
URL:https://business.wahpetonbreckenridgechamber.com/events/details/59th-annual-wahpeton-breckenridge-kiwanis-pancake-feed-6576
END:VEVENT

END:VCALENDAR
