BEGIN:VCALENDAR
VERSION:2.0
PRODID:-//ChamberMaster//Event Calendar 2.0//EN
METHOD:PUBLISH
X-PUBLISHED-TTL:P3D
REFRESH-INTERVAL:P3D
CALSCALE:GREGORIAN
BEGIN:VEVENT
DTSTART:20251015T140000Z
DTEND:20251016T230000Z
X-MICROSOFT-CDO-ALLDAYEVENT:FALSE
SUMMARY:50-50
DESCRIPTION:Receive $50* when you refer a friend or open a new checking account with us for the first time!
X-ALT-DESC;FMTTYPE=text/html:Receive $50* when you refer a friend or open a new checking account with us for the first time!
LOCATION:Gate City Bank
UID:e.417.6392
SEQUENCE:3
DTSTAMP:20260421T170808Z
URL:https://business.wahpetonbreckenridgechamber.com/events/details/50-50-6392
END:VEVENT

END:VCALENDAR
