BEGIN:VCALENDAR
VERSION:2.0
PRODID:-//ChamberMaster//Event Calendar 2.0//EN
METHOD:PUBLISH
X-PUBLISHED-TTL:P3D
REFRESH-INTERVAL:P3D
CALSCALE:GREGORIAN
BEGIN:VEVENT
DTSTART:20251017T210000Z
DTEND:20251018T000000Z
X-MICROSOFT-CDO-ALLDAYEVENT:FALSE
SUMMARY:3rd Annual Trunk or Treat
DESCRIPTION:3rd Annual Trunk or Treat Join us at the Vision Ford Lincoln parking lot 1688 210 Dr\, Wahpeton\, ND. - free to attend - costumes optional - food trucks - bouncy houses - and more
X-ALT-DESC;FMTTYPE=text/html:3rd Annual Trunk or Treat Join us at the Vision Ford Lincoln parking lot 1688 210 Dr\, Wahpeton\, ND. - free to attend - costumes optional - food trucks - bouncy houses - and more
LOCATION:Vision Ford Lincoln parking lot
UID:e.417.6251
SEQUENCE:3
DTSTAMP:20260421T171157Z
URL:https://business.wahpetonbreckenridgechamber.com/events/details/3rd-annual-trunk-or-treat-6251
END:VEVENT

END:VCALENDAR
