BEGIN:VCALENDAR
VERSION:2.0
PRODID:-//ChamberMaster//Event Calendar 2.0//EN
METHOD:PUBLISH
X-PUBLISHED-TTL:P3D
REFRESH-INTERVAL:P3D
CALSCALE:GREGORIAN
BEGIN:VEVENT
DTSTART:20230720T180000Z
DTEND:20230720T230000Z
X-MICROSOFT-CDO-ALLDAYEVENT:FALSE
SUMMARY:2nd Annual Tital/RWCF 4-Person Golf Scrable
DESCRIPTION:2nd Annual Titan/RWCF 4-Person Golf Scramble
X-ALT-DESC;FMTTYPE=text/html:<h1 class="x1heor9g x1qlqyl8 x1pd3egz x1a2a7pz x193iq5w xeuugli" dir="auto"><span class="x193iq5w xeuugli x13faqbe x1vvkbs x1xmvt09 x1lliihq x1s928wv xhkezso x1gmr53x x1cpjm7i x1fgarty x1943h6x x1ill7wo x1x48ksl x1q74xe4 xyesn5m x1xlr1w8 xzsf02u x1yc453h" dir="auto"><span class="x1lliihq x6ikm8r x10wlt62 x1n2onr6 xg8j3zb" style="-moz-box-orient: vertical\; -webkit-line-clamp: 2\; display: -webkit-box\;"><span>2nd Annual Titan/RWCF 4-Person Golf Scramble</span></span></span></h1>\n
LOCATION:Bois De Sioux Golf Course Wahpeton\, ND
UID:e.417.4604
SEQUENCE:3
DTSTAMP:20260421T103057Z
URL:https://business.wahpetonbreckenridgechamber.com/events/details/2nd-annual-tital-rwcf-4-person-golf-scrable-4604
END:VEVENT

END:VCALENDAR
