BEGIN:VCALENDAR
VERSION:2.0
PRODID:-//ChamberMaster//Event Calendar 2.0//EN
METHOD:PUBLISH
X-PUBLISHED-TTL:P3D
REFRESH-INTERVAL:P3D
CALSCALE:GREGORIAN
BEGIN:VEVENT
DTSTART:20231029T020000Z
DTEND:20231029T060000Z
X-MICROSOFT-CDO-ALLDAYEVENT:FALSE
SUMMARY:21+ Costume Party: Firehouse Pub
DESCRIPTION:Firehouse Pub''s Halloween Costume Party\n\nThe Firehouse Pub will be having a HALLOWEEN PARTY October 28th from 9 PM - 1 AM. We have a special host\, DJ Seam Rumble who will be playing some spooky music for you. Come have some spooky drinks and jam to some spooky music.
X-ALT-DESC;FMTTYPE=text/html:Firehouse Pub&#39\;&#39\;s Halloween Costume Party<br />\n<span style="color: rgb(228\, 230\, 235)\; font-family: &quot\;Segoe UI Historic&quot\;\, &quot\;Segoe UI&quot\;\, Helvetica\, Arial\, sans-serif\; font-size: 15px\; background-color: rgb(36\, 37\, 38)\;">The&nbsp\;</span><span style="font-family: &quot\;Segoe UI Historic&quot\;\, &quot\;Segoe UI&quot\;\, Helvetica\, Arial\, sans-serif\; color: rgb(228\, 230\, 235)\; font-size: 15px\; background-color: rgb(36\, 37\, 38)\;"><a class="x1i10hfl xjbqb8w x6umtig x1b1mbwd xaqea5y xav7gou x9f619 x1ypdohk xt0psk2 xe8uvvx xdj266r x11i5rnm xat24cr x1mh8g0r xexx8yu x4uap5 x18d9i69 xkhd6sd x16tdsg8 x1hl2dhg xggy1nq x1a2a7pz xt0b8zv xzsf02u x1s688f" href="https://www.facebook.com/profile.php?id=100048495741828&amp\;__cft__[0]=AZVDut2vmYwSTZ2lakDIyLtko0n5jVhgfgc2ZU9mMnudU-He8rU047uyEbz-4QmLE8SMgCBeVeWevH_dz39c8w5rjo7O1NJGWUZHU1NOlzccN_v5nF8v0NUpKhIpKrN0aPvJRlgcUsYw7rC9k_TA6CYbI7SiijiXmrgvxCUHF1Zbj-iFEmXjfOdQosWlDUBwgns&amp\;__tn__=-]K*F" role="link" style="color: var(--primary-text)\; cursor: pointer\; text-decoration-line: none\; outline: none\; list-style: none\; margin: 0px\; text-align: inherit\; padding: 0px\; box-sizing: border-box\; background-color: transparent\; border-width: 0px\; border-style: initial\; border-color: initial\; -webkit-tap-highlight-color: transparent\; font-weight: 600\; touch-action: manipulation\; display: inline\; font-family: inherit\;" tabindex="0"><span class="xt0psk2" style="display: inline\; font-family: inherit\;">Firehouse Pub</span></a></span><span style="color: rgb(228\, 230\, 235)\; font-family: &quot\;Segoe UI Historic&quot\;\, &quot\;Segoe UI&quot\;\, Helvetica\, Arial\, sans-serif\; font-size: 15px\; background-color: rgb(36\, 37\, 38)\;">&nbsp\;will be having a HALLOWEEN PARTY October 28th from 9 PM - 1 AM. We have a special host\, DJ Seam Rumble who will be playing some spooky music for you. Come have some spooky drinks and jam to some spooky music.</span>
LOCATION:Firehouse Pub
UID:e.417.5010
SEQUENCE:3
DTSTAMP:20260419T145730Z
URL:https://business.wahpetonbreckenridgechamber.com/events/details/21-costume-party-firehouse-pub-5010
END:VEVENT

END:VCALENDAR
