BEGIN:VCALENDAR
VERSION:2.0
PRODID:-//ChamberMaster//Event Calendar 2.0//EN
METHOD:PUBLISH
X-PUBLISHED-TTL:P3D
REFRESH-INTERVAL:P3D
CALSCALE:GREGORIAN
BEGIN:VEVENT
DTSTART:20231029T030000Z
DTEND:20231029T070000Z
X-MICROSOFT-CDO-ALLDAYEVENT:FALSE
SUMMARY:21+ Bras For the Cause Halloween Party Antelope Creek
DESCRIPTION:Bras For the Cause Halloween Party\n\nHalloween party with costume contest! $350 in cash prizes! We'll have 3 categories\, and an overall winner! the categories are sexiest costume- man or woman! scariest costume\, best couple/ group costume\, and participants choice overall!! Winners in each category will get a $50 tab for the evening\, and $50 cash per category! Participants choose winner gets $250 in cash\, and your tab covered by the bar for the night!! Adults only after 10\, voting at 11pm sharp!!
X-ALT-DESC;FMTTYPE=text/html:Bras For the Cause Halloween Party<br />\n<span style="color: rgb(228\, 230\, 235)\; font-family: &quot\;Segoe UI Historic&quot\;\, &quot\;Segoe UI&quot\;\, Helvetica\, Arial\, sans-serif\; font-size: 15px\; background-color: rgb(36\, 37\, 38)\;">Halloween party with costume contest! $350 in cash prizes! We&#39\;ll have 3 categories\, and an overall winner! the categories are sexiest costume- man or woman! scariest costume\, best couple/ group costume\, and participants choice overall!! Winners in each category will get a $50 tab for the evening\, and $50 cash per category! Participants choose winner gets $250 in cash\, and your tab covered by the bar for the night!! Adults only after 10\, voting at 11pm sharp!!</span>
LOCATION:Antelope Creek Bar and Grill
UID:e.417.5021
SEQUENCE:3
DTSTAMP:20260419T163620Z
URL:https://business.wahpetonbreckenridgechamber.com/events/details/21-bras-for-the-cause-halloween-party-antelope-creek-5021
END:VEVENT

END:VCALENDAR
