BEGIN:VCALENDAR
VERSION:2.0
PRODID:-//ChamberMaster//Event Calendar 2.0//EN
METHOD:PUBLISH
X-PUBLISHED-TTL:P3D
REFRESH-INTERVAL:P3D
CALSCALE:GREGORIAN
BEGIN:VEVENT
DTSTART:20251106T200000Z
DTEND:20251107T000000Z
X-MICROSOFT-CDO-ALLDAYEVENT:FALSE
SUMMARY:2025 Veterans Information Expo
DESCRIPTION:2025 VETERANS\n\nINFORMATION EXPO\n\nHave you served in the United States Armed Forces and want to know\n\nwhat benefits and resources may be available to you?\n\nDid you know: The Department of Veterans Affairs has announced it will\n\nimprove Veterans' access to health care by extending the length of new\n\nVA community care authorizations to one year for 30 standardized types\n\nof care. Come find out what types of services are covered by community\n\ncare!\n\nVeteran ID Card? A Veteran ID Card (VIC) is a digital photo ID you can\n\nuse to get discounts for Veterans at many stores\, businesses\, and\n\nrestaurants. When you have this card\, you won't need to carry around\n\nyour military discharge papers or share sensitive personal information to\n\nget discounts. And you don't need to request another type of photo ID\n\ncard to prove you're a Veteran or to get retail or business discounts.\n\nCome find out if you are eligible to get one!\n\nThe PACT ACT expands VA health care and benefits to veterans exposed\n\nto toxic substances\, particularly in specific locations and during specific\n\ntime periods. This includes veterans who served in Vietnam\, Gulf War\,\n\nand post-9/11 eras\, as well as those exposed to burn pits and other\n\ntoxins. The Act also covers veterans who served in specified locations.\n\nCome find out what locations are on the list.
X-ALT-DESC;FMTTYPE=text/html:2025 VETERANS<br />\nINFORMATION EXPO<br />\nHave you served in the United States Armed Forces and want to know<br />\nwhat benefits and resources may be available to you?<br />\nDid you know: The Department of Veterans Affairs has announced it will<br />\nimprove Veterans&rsquo\; access to health care by extending the length of new<br />\nVA community care authorizations to one year for 30 standardized types<br />\nof care. Come find out what types of services are covered by community<br />\ncare!<br />\nVeteran ID Card? A Veteran ID Card (VIC) is a digital photo ID you can<br />\nuse to get discounts for Veterans at many stores\, businesses\, and<br />\nrestaurants. When you have this card\, you won&rsquo\;t need to carry around<br />\nyour military discharge papers or share sensitive personal information to<br />\nget discounts. And you don&rsquo\;t need to request another type of photo ID<br />\ncard to prove you&rsquo\;re a Veteran or to get retail or business discounts.<br />\nCome find out if you are eligible to get one!<br />\nThe PACT ACT expands VA health care and benefits to veterans exposed<br />\nto toxic substances\, particularly in specific locations and during specific<br />\ntime periods. This includes veterans who served in Vietnam\, Gulf War\,<br />\nand post-9/11 eras\, as well as those exposed to burn pits and other<br />\ntoxins. The Act also covers veterans who served in specified locations.<br />\nCome find out what locations are on the list.
LOCATION:Wahpeton Community Center 304 5th St S Wahpeton\, ND
UID:e.417.6387
SEQUENCE:3
DTSTAMP:20260421T154955Z
URL:https://business.wahpetonbreckenridgechamber.com/events/details/2025-veterans-information-expo-6387
END:VEVENT

END:VCALENDAR
