BEGIN:VCALENDAR
VERSION:2.0
PRODID:-//ChamberMaster//Event Calendar 2.0//EN
METHOD:PUBLISH
X-PUBLISHED-TTL:P3D
REFRESH-INTERVAL:P3D
CALSCALE:GREGORIAN
BEGIN:VEVENT
DTSTART:20251014T234500Z
DTEND:20251015T010000Z
X-MICROSOFT-CDO-ALLDAYEVENT:FALSE
SUMMARY:2025 Speaker Series featuring Steve D Scheel
DESCRIPTION:2025 Speaker Series featuring Steve D. Scheel \n\nChairman Emeritus of Scheels\n\nOpen to the Public\n\n\n\nThis special event will also feature a performance by the NDSCS Concert Choir and a celebration of 50 years of Women's Athletics at NDSCS.
X-ALT-DESC;FMTTYPE=text/html:<p>2025 Speaker Series featuring Steve D. Scheel&nbsp\;</p>\n\n<p>Chairman Emeritus of Scheels</p>\n\n<p>Open to the Public<br />\n<br />\nThis special event will also feature a performance by the NDSCS Concert Choir and a celebration of 50 years of Women&#39\;s Athletics at NDSCS.</p>\n
LOCATION:Stern Cultural Center - NDSCS Campus
UID:e.417.6402
SEQUENCE:3
DTSTAMP:20260421T171048Z
URL:https://business.wahpetonbreckenridgechamber.com/events/details/2025-speaker-series-featuring-steve-d-scheel-6402
END:VEVENT

END:VCALENDAR
