BEGIN:VCALENDAR
VERSION:2.0
PRODID:-//ChamberMaster//Event Calendar 2.0//EN
METHOD:PUBLISH
X-PUBLISHED-TTL:P3D
REFRESH-INTERVAL:P3D
CALSCALE:GREGORIAN
BEGIN:VEVENT
DTSTART:20251005T000000Z
DTEND:20251005T020000Z
X-MICROSOFT-CDO-ALLDAYEVENT:FALSE
SUMMARY:1st Annual Bailey Bernstein Glow Run & Walk Event
DESCRIPTION:1st Annual Bailey Bernstein Glow Run & Walk event
X-ALT-DESC;FMTTYPE=text/html:1st Annual Bailey Bernstein Glow Run &amp\; Walk event
LOCATION:Hughes Shelter\, Wahpeton\, ND at 7:00pm (dusk)
UID:e.417.6276
SEQUENCE:3
DTSTAMP:20260421T171722Z
URL:https://business.wahpetonbreckenridgechamber.com/events/details/1st-annual-bailey-bernstein-glow-run-walk-event-6276
END:VEVENT

END:VCALENDAR
