BEGIN:VCALENDAR
VERSION:2.0
PRODID:-//ChamberMaster//Event Calendar 2.0//EN
METHOD:PUBLISH
X-PUBLISHED-TTL:P3D
REFRESH-INTERVAL:P3D
CALSCALE:GREGORIAN
BEGIN:VEVENT
DTSTART:20241019T150000Z
DTEND:20241019T190000Z
X-MICROSOFT-CDO-ALLDAYEVENT:FALSE
SUMMARY:12th Annual Pumpkin Patch
DESCRIPTION:12th Annual Bagg Farm Pumpkin Patch
X-ALT-DESC;FMTTYPE=text/html:12th Annual Bagg Farm Pumpkin Patch
LOCATION:Bagg Bonanza Farm
UID:e.417.5644
SEQUENCE:3
DTSTAMP:20260421T081220Z
URL:https://business.wahpetonbreckenridgechamber.com/events/details/12th-annual-pumpkin-patch-5644
END:VEVENT

END:VCALENDAR
