BEGIN:VCALENDAR
VERSION:2.0
PRODID:-//ChamberMaster//Event Calendar 2.0//EN
METHOD:PUBLISH
X-PUBLISHED-TTL:P3D
REFRESH-INTERVAL:P3D
CALSCALE:GREGORIAN
BEGIN:VEVENT
DTSTART;VALUE=DATE:20240515
DTEND;VALUE=DATE:20240516
TRANSP:TRANSPARENT
X-MICROSOFT-CDO-ALLDAYEVENT:TRUE
SUMMARY:11th Annual OSPTI 5K FunRun
DESCRIPTION:11th Annual OSPTI 5K FunRun
X-ALT-DESC;FMTTYPE=text/html:11th Annual OSPTI 5K FunRun
LOCATION:OSPTI 430 5th St N Breckenridge
UID:e.417.5441
SEQUENCE:3
DTSTAMP:20260425T163556Z
URL:https://business.wahpetonbreckenridgechamber.com/events/details/11th-annual-ospti-5k-funrun-5441
END:VEVENT

END:VCALENDAR
